Package: Structstrings Version: 1.25.3 Command: /home/biocbuild/bbs-3.22-bioc/R/bin/R CMD build --keep-empty-dirs --no-resave-data --md5 Structstrings StartedAt: 2025-10-24 20:31:07 -0400 (Fri, 24 Oct 2025) EndedAt: 2025-10-24 20:31:34 -0400 (Fri, 24 Oct 2025) EllapsedTime: 27.0 seconds RetCode: 0 Status: OK PackageFile: Structstrings_1.25.3.tar.gz PackageFileSize: 375.6 KiB