Package: Structstrings Version: 1.26.0 Command: /Library/Frameworks/R.framework/Resources/bin/R CMD build --keep-empty-dirs --no-resave-data Structstrings StartedAt: 2025-11-18 02:43:59 -0500 (Tue, 18 Nov 2025) EndedAt: 2025-11-18 02:45:02 -0500 (Tue, 18 Nov 2025) EllapsedTime: 63.3 seconds RetCode: 0 Status: OK PackageFile: Structstrings_1.26.0.tar.gz PackageFileSize: 373.3 KiB