Package: Structstrings Version: 1.26.0 Command: rm -rf Structstrings.buildbin-libdir && mkdir Structstrings.buildbin-libdir && /Users/biocbuild/BBS/utils/build-universal.sh Structstrings_1.26.0.tar.gz /Library/Frameworks/R.framework/Resources/bin/R Structstrings.buildbin-libdir StartedAt: 2025-11-18 18:42:16 -0500 (Tue, 18 Nov 2025) EndedAt: 2025-11-18 18:42:57 -0500 (Tue, 18 Nov 2025) EllapsedTime: 41.5 seconds RetCode: 0 Status: OK PackageFile: Structstrings_1.26.0.tgz PackageFileSize: 812.8 KiB