Package: Structstrings Version: 1.25.3 Command: /Library/Frameworks/R.framework/Resources/bin/R CMD INSTALL Structstrings StartedAt: 2025-10-24 15:26:04 -0400 (Fri, 24 Oct 2025) EndedAt: 2025-10-24 15:26:31 -0400 (Fri, 24 Oct 2025) EllapsedTime: 27.1 seconds RetCode: 0 Status: OK