Package: Structstrings Version: 1.25.3 Command: /Library/Frameworks/R.framework/Resources/bin/R CMD build --keep-empty-dirs --no-resave-data Structstrings StartedAt: 2025-10-24 18:59:22 -0400 (Fri, 24 Oct 2025) EndedAt: 2025-10-24 18:59:55 -0400 (Fri, 24 Oct 2025) EllapsedTime: 33.0 seconds RetCode: 0 Status: OK PackageFile: Structstrings_1.25.3.tar.gz PackageFileSize: 373.4 KiB