Package: Structstrings Version: 1.25.3 Command: rm -rf Structstrings.buildbin-libdir && mkdir Structstrings.buildbin-libdir && /Users/biocbuild/BBS/utils/build-universal.sh Structstrings_1.25.3.tar.gz /Library/Frameworks/R.framework/Resources/bin/R Structstrings.buildbin-libdir StartedAt: 2025-10-25 02:07:22 -0400 (Sat, 25 Oct 2025) EndedAt: 2025-10-25 02:07:52 -0400 (Sat, 25 Oct 2025) EllapsedTime: 30.0 seconds RetCode: 0 Status: OK PackageFile: Structstrings_1.25.3.tgz PackageFileSize: 809.6 KiB