Package: Structstrings Version: 1.25.3 Command: rm -rf Structstrings.buildbin-libdir && mkdir Structstrings.buildbin-libdir && /Users/biocbuild/BBS/utils/build-universal.sh Structstrings_1.25.3.tar.gz /Library/Frameworks/R.framework/Resources/bin/R Structstrings.buildbin-libdir StartedAt: 2025-10-24 23:21:47 -0400 (Fri, 24 Oct 2025) EndedAt: 2025-10-24 23:21:55 -0400 (Fri, 24 Oct 2025) EllapsedTime: 8.2 seconds RetCode: 0 Status: OK PackageFile: Structstrings_1.25.3.tgz PackageFileSize: 810.4 KiB