Package: Structstrings Version: 1.26.0 Command: /Library/Frameworks/R.framework/Resources/bin/R CMD INSTALL Structstrings StartedAt: 2025-11-17 17:16:39 -0500 (Mon, 17 Nov 2025) EndedAt: 2025-11-17 17:16:46 -0500 (Mon, 17 Nov 2025) EllapsedTime: 7.3 seconds RetCode: 0 Status: OK