Package: Streamer Version: 1.56.0 Command: /home/biocbuild/bbs-3.22-bioc/R/bin/R CMD build --keep-empty-dirs --no-resave-data --md5 Streamer StartedAt: 2025-11-14 20:31:03 -0500 (Fri, 14 Nov 2025) EndedAt: 2025-11-14 20:31:21 -0500 (Fri, 14 Nov 2025) EllapsedTime: 18.0 seconds RetCode: 0 Status: OK PackageFile: Streamer_1.56.0.tar.gz PackageFileSize: 135.7 KiB