Package: Statial Version: 1.12.0 Command: /home/biocbuild/bbs-3.22-bioc/R/bin/R CMD INSTALL Statial StartedAt: 2025-10-29 21:40:36 -0400 (Wed, 29 Oct 2025) EndedAt: 2025-10-29 21:41:05 -0400 (Wed, 29 Oct 2025) EllapsedTime: 28.7 seconds RetCode: 0 Status: OK