Package: Statial Version: 1.12.0 Command: /home/biocbuild/bbs-3.22-bioc/R/bin/R CMD build --keep-empty-dirs --no-resave-data --md5 Statial StartedAt: 2025-10-30 02:47:19 -0400 (Thu, 30 Oct 2025) EndedAt: 2025-10-30 02:56:27 -0400 (Thu, 30 Oct 2025) EllapsedTime: 547.8 seconds RetCode: 0 Status: OK PackageFile: Statial_1.12.0.tar.gz PackageFileSize: 9.247 MiB