Package: StabMap Version: 1.4.0 Command: /Library/Frameworks/R.framework/Resources/bin/R CMD INSTALL StabMap StartedAt: 2025-11-03 15:51:49 -0500 (Mon, 03 Nov 2025) EndedAt: 2025-11-03 15:52:17 -0500 (Mon, 03 Nov 2025) EllapsedTime: 28.7 seconds RetCode: 0 Status: OK