Package: StabMap Version: 1.4.0 Command: rm -rf StabMap.buildbin-libdir && mkdir StabMap.buildbin-libdir && /Users/biocbuild/BBS/utils/build-universal.sh StabMap_1.4.0.tar.gz /Library/Frameworks/R.framework/Resources/bin/R StabMap.buildbin-libdir StartedAt: 2025-11-04 02:07:07 -0500 (Tue, 04 Nov 2025) EndedAt: 2025-11-04 02:07:37 -0500 (Tue, 04 Nov 2025) EllapsedTime: 30.2 seconds RetCode: 0 Status: OK PackageFile: StabMap_1.4.0.tgz PackageFileSize: 1.773 MiB