Package: StabMap Version: 1.4.0 Command: /Library/Frameworks/R.framework/Resources/bin/R CMD INSTALL StabMap StartedAt: 2025-11-17 18:26:31 -0500 (Mon, 17 Nov 2025) EndedAt: 2025-11-17 18:26:39 -0500 (Mon, 17 Nov 2025) EllapsedTime: 8.1 seconds RetCode: 0 Status: OK