Package: SpotSweeper Version: 1.5.1 Command: /home/biocbuild/bbs-3.22-bioc/R/bin/R CMD INSTALL SpotSweeper StartedAt: 2025-10-24 15:34:30 -0400 (Fri, 24 Oct 2025) EndedAt: 2025-10-24 15:35:09 -0400 (Fri, 24 Oct 2025) EllapsedTime: 39.0 seconds RetCode: 0 Status: OK