Package: SpotClean Version: 1.12.0 Command: /home/biocbuild/bbs-3.22-bioc/R/bin/R CMD INSTALL SpotClean StartedAt: 2025-11-16 15:21:19 -0500 (Sun, 16 Nov 2025) EndedAt: 2025-11-16 15:21:55 -0500 (Sun, 16 Nov 2025) EllapsedTime: 36.8 seconds RetCode: 0 Status: OK