Package: SpotClean Version: 1.12.0 Command: /home/biocbuild/bbs-3.22-bioc/R/bin/R CMD build --keep-empty-dirs --no-resave-data --md5 SpotClean StartedAt: 2025-11-16 20:29:19 -0500 (Sun, 16 Nov 2025) EndedAt: 2025-11-16 20:33:19 -0500 (Sun, 16 Nov 2025) EllapsedTime: 240.2 seconds RetCode: 0 Status: OK PackageFile: SpotClean_1.12.0.tar.gz PackageFileSize: 3.967 MiB