Package: SplicingGraphs Version: 1.49.1 Command: /home/biocbuild/bbs-3.22-bioc/R/bin/R CMD INSTALL SplicingGraphs StartedAt: 2025-10-24 15:49:49 -0400 (Fri, 24 Oct 2025) EndedAt: 2025-10-24 15:50:30 -0400 (Fri, 24 Oct 2025) EllapsedTime: 40.3 seconds RetCode: 0 Status: OK