Package: SplicingGraphs Version: 1.49.1 Command: /Library/Frameworks/R.framework/Resources/bin/R CMD INSTALL SplicingGraphs StartedAt: 2025-10-24 15:43:04 -0400 (Fri, 24 Oct 2025) EndedAt: 2025-10-24 15:43:59 -0400 (Fri, 24 Oct 2025) EllapsedTime: 55.8 seconds RetCode: 0 Status: OK