Package: SplicingGraphs Version: 1.49.1 Command: /Library/Frameworks/R.framework/Resources/bin/R CMD build --keep-empty-dirs --no-resave-data SplicingGraphs StartedAt: 2025-10-24 18:55:55 -0400 (Fri, 24 Oct 2025) EndedAt: 2025-10-24 18:57:27 -0400 (Fri, 24 Oct 2025) EllapsedTime: 92.2 seconds RetCode: 1 Status: ERROR PackageFile: None PackageFileSize: NA