Package: SplicingGraphs Version: 1.49.1 Command: rm -rf SplicingGraphs.buildbin-libdir && mkdir SplicingGraphs.buildbin-libdir && /Users/biocbuild/BBS/utils/build-universal.sh SplicingGraphs_1.49.1.tar.gz /Library/Frameworks/R.framework/Resources/bin/R SplicingGraphs.buildbin-libdir StartedAt: 2025-10-08 02:44:59 -0400 (Wed, 08 Oct 2025) EndedAt: 2025-10-08 02:46:01 -0400 (Wed, 08 Oct 2025) EllapsedTime: 62.4 seconds RetCode: 0 Status: OK PackageFile: SplicingGraphs_1.49.1.tgz PackageFileSize: 4.82 MiB