Package: SplicingGraphs Version: 1.49.1 Command: /Library/Frameworks/R.framework/Resources/bin/R CMD build --keep-empty-dirs --no-resave-data SplicingGraphs StartedAt: 2025-10-26 18:07:47 -0400 (Sun, 26 Oct 2025) EndedAt: 2025-10-26 18:08:19 -0400 (Sun, 26 Oct 2025) EllapsedTime: 32.3 seconds RetCode: 1 Status: ERROR PackageFile: None PackageFileSize: NA