Package: SplicingFactory Version: 1.18.0 Command: /Library/Frameworks/R.framework/Resources/bin/R CMD build --keep-empty-dirs --no-resave-data SplicingFactory StartedAt: 2025-11-18 02:35:45 -0500 (Tue, 18 Nov 2025) EndedAt: 2025-11-18 02:37:01 -0500 (Tue, 18 Nov 2025) EllapsedTime: 75.2 seconds RetCode: 0 Status: OK PackageFile: SplicingFactory_1.18.0.tar.gz PackageFileSize: 790.8 KiB