Package: SplicingFactory Version: 1.18.0 Command: /Library/Frameworks/R.framework/Resources/bin/R CMD INSTALL SplicingFactory StartedAt: 2025-11-03 15:27:54 -0500 (Mon, 03 Nov 2025) EndedAt: 2025-11-03 15:28:20 -0500 (Mon, 03 Nov 2025) EllapsedTime: 26.2 seconds RetCode: 0 Status: OK