Package: SplicingFactory Version: 1.18.0 Command: /Library/Frameworks/R.framework/Resources/bin/R CMD build --keep-empty-dirs --no-resave-data SplicingFactory StartedAt: 2025-11-03 18:56:30 -0500 (Mon, 03 Nov 2025) EndedAt: 2025-11-03 18:57:13 -0500 (Mon, 03 Nov 2025) EllapsedTime: 43.2 seconds RetCode: 0 Status: OK PackageFile: SplicingFactory_1.18.0.tar.gz PackageFileSize: 790.8 KiB