Package: SplicingFactory Version: 1.17.0 Command: /Library/Frameworks/R.framework/Resources/bin/R CMD INSTALL SplicingFactory StartedAt: 2025-10-26 15:11:46 -0400 (Sun, 26 Oct 2025) EndedAt: 2025-10-26 15:11:54 -0400 (Sun, 26 Oct 2025) EllapsedTime: 7.9 seconds RetCode: 0 Status: OK