Package: SplicingFactory Version: 1.17.0 Command: /Library/Frameworks/R.framework/Resources/bin/R CMD build --keep-empty-dirs --no-resave-data SplicingFactory StartedAt: 2025-10-26 18:07:44 -0400 (Sun, 26 Oct 2025) EndedAt: 2025-10-26 18:07:58 -0400 (Sun, 26 Oct 2025) EllapsedTime: 14.1 seconds RetCode: 0 Status: OK PackageFile: SplicingFactory_1.17.0.tar.gz PackageFileSize: 791.1 KiB