Package: SplicingFactory Version: 1.18.0 Command: /Library/Frameworks/R.framework/Resources/bin/R CMD INSTALL SplicingFactory StartedAt: 2025-11-17 17:34:28 -0500 (Mon, 17 Nov 2025) EndedAt: 2025-11-17 17:34:36 -0500 (Mon, 17 Nov 2025) EllapsedTime: 8.1 seconds RetCode: 0 Status: OK