Package: SplicingFactory Version: 1.18.0 Command: /Library/Frameworks/R.framework/Resources/bin/R CMD build --keep-empty-dirs --no-resave-data SplicingFactory StartedAt: 2025-11-18 01:25:02 -0500 (Tue, 18 Nov 2025) EndedAt: 2025-11-18 01:25:18 -0500 (Tue, 18 Nov 2025) EllapsedTime: 16.1 seconds RetCode: 0 Status: OK PackageFile: SplicingFactory_1.18.0.tar.gz PackageFileSize: 791.1 KiB