Package: SpeCond Version: 1.64.0 Command: /home/biocbuild/bbs-3.22-bioc/R/bin/R CMD INSTALL SpeCond StartedAt: 2025-11-16 15:14:39 -0500 (Sun, 16 Nov 2025) EndedAt: 2025-11-16 15:14:46 -0500 (Sun, 16 Nov 2025) EllapsedTime: 7.3 seconds RetCode: 0 Status: OK