Package: SpatialFeatureExperiment Version: 1.11.1 Command: /Library/Frameworks/R.framework/Resources/bin/R CMD INSTALL SpatialFeatureExperiment StartedAt: 2025-10-28 15:38:38 -0400 (Tue, 28 Oct 2025) EndedAt: 2025-10-28 15:39:58 -0400 (Tue, 28 Oct 2025) EllapsedTime: 79.6 seconds RetCode: 0 Status: OK