Package: SpatialFeatureExperiment Version: 1.11.1 Command: /Library/Frameworks/R.framework/Resources/bin/R CMD build --keep-empty-dirs --no-resave-data SpatialFeatureExperiment StartedAt: 2025-10-27 18:47:16 -0400 (Mon, 27 Oct 2025) EndedAt: 2025-10-27 18:49:26 -0400 (Mon, 27 Oct 2025) EllapsedTime: 130.0 seconds RetCode: 1 Status: ERROR PackageFile: None PackageFileSize: NA