Package: SpatialFeatureExperiment Version: 1.11.1 Command: /Library/Frameworks/R.framework/Resources/bin/R CMD INSTALL SpatialFeatureExperiment StartedAt: 2025-10-27 15:16:36 -0400 (Mon, 27 Oct 2025) EndedAt: 2025-10-27 15:16:58 -0400 (Mon, 27 Oct 2025) EllapsedTime: 22.0 seconds RetCode: 0 Status: OK