Package: SpatialExperimentIO Version: 1.2.0 Command: /home/biocbuild/R/R/bin/R CMD build --keep-empty-dirs --no-resave-data SpatialExperimentIO StartedAt: 2025-11-18 05:20:20 -0000 (Tue, 18 Nov 2025) EndedAt: 2025-11-18 05:21:20 -0000 (Tue, 18 Nov 2025) EllapsedTime: 60.0 seconds RetCode: 0 Status: OK PackageFile: SpatialExperimentIO_1.2.0.tar.gz PackageFileSize: 633.4 KiB