Package: SpatialExperimentIO Version: 1.2.0 Maintainer: Yixing E. Dong MaintainerEmail: estelladong729 at gmail.com git_url: https://git.bioconductor.org/packages/SpatialExperimentIO git_branch: RELEASE_3_22 git_last_commit: 811da54 git_last_commit_date: 2025-10-29 11:34:03 -0400 (Wed, 29 Oct 2025)