Package: SpatialExperiment Version: 1.19.1 Command: /home/biocbuild/bbs-3.22-bioc/R/bin/R CMD INSTALL SpatialExperiment StartedAt: 2025-10-24 15:30:12 -0400 (Fri, 24 Oct 2025) EndedAt: 2025-10-24 15:30:36 -0400 (Fri, 24 Oct 2025) EllapsedTime: 24.5 seconds RetCode: 0 Status: OK