Package: SpatialExperiment Version: 1.20.0 Command: /Library/Frameworks/R.framework/Resources/bin/R CMD build --keep-empty-dirs --no-resave-data SpatialExperiment StartedAt: 2025-11-10 17:50:46 -0500 (Mon, 10 Nov 2025) EndedAt: 2025-11-10 17:51:15 -0500 (Mon, 10 Nov 2025) EllapsedTime: 28.3 seconds RetCode: 0 Status: OK PackageFile: SpatialExperiment_1.20.0.tar.gz PackageFileSize: 5.69 MiB