Package: SpatialExperiment Version: 1.20.0 Command: rm -rf SpatialExperiment.buildbin-libdir && mkdir SpatialExperiment.buildbin-libdir && /Users/biocbuild/BBS/utils/build-universal.sh SpatialExperiment_1.20.0.tar.gz /Library/Frameworks/R.framework/Resources/bin/R SpatialExperiment.buildbin-libdir StartedAt: 2025-11-09 23:26:00 -0500 (Sun, 09 Nov 2025) EndedAt: 2025-11-09 23:26:12 -0500 (Sun, 09 Nov 2025) EllapsedTime: 11.2 seconds RetCode: 0 Status: OK PackageFile: SpatialExperiment_1.20.0.tgz PackageFileSize: 6.012 MiB