Package: SpatialDecon Version: 1.20.0 Command: rm -rf SpatialDecon.buildbin-libdir && mkdir SpatialDecon.buildbin-libdir && /Users/biocbuild/BBS/utils/build-universal.sh SpatialDecon_1.20.0.tar.gz /Library/Frameworks/R.framework/Resources/bin/R SpatialDecon.buildbin-libdir StartedAt: 2025-11-04 02:06:09 -0500 (Tue, 04 Nov 2025) EndedAt: 2025-11-04 02:06:46 -0500 (Tue, 04 Nov 2025) EllapsedTime: 37.0 seconds RetCode: 0 Status: OK PackageFile: SpatialDecon_1.20.0.tgz PackageFileSize: 4.291 MiB