Package: SpatialDecon Version: 1.20.0 Command: /Library/Frameworks/R.framework/Resources/bin/R CMD INSTALL SpatialDecon StartedAt: 2025-11-17 18:36:00 -0500 (Mon, 17 Nov 2025) EndedAt: 2025-11-17 18:36:10 -0500 (Mon, 17 Nov 2025) EllapsedTime: 10.1 seconds RetCode: 0 Status: OK