Package: SpatialDecon Version: 1.20.0 Command: /Library/Frameworks/R.framework/Resources/bin/R CMD build --keep-empty-dirs --no-resave-data SpatialDecon StartedAt: 2025-11-18 01:15:42 -0500 (Tue, 18 Nov 2025) EndedAt: 2025-11-18 01:16:42 -0500 (Tue, 18 Nov 2025) EllapsedTime: 60.5 seconds RetCode: 0 Status: OK PackageFile: SpatialDecon_1.20.0.tar.gz PackageFileSize: 5.28 MiB