Package: SpatialDecon Version: 1.20.0 Maintainer: Maddy Griswold MaintainerEmail: mgriswold at nanostring.com git_url: https://git.bioconductor.org/packages/SpatialDecon git_branch: RELEASE_3_22 git_last_commit: 3cc3c50 git_last_commit_date: 2025-10-29 11:03:25 -0500 (Wed, 29 Oct 2025)