Package: SparseSignatures Version: 2.19.2 Command: /Library/Frameworks/R.framework/Resources/bin/R CMD INSTALL SparseSignatures StartedAt: 2025-10-24 15:36:21 -0400 (Fri, 24 Oct 2025) EndedAt: 2025-10-24 15:37:15 -0400 (Fri, 24 Oct 2025) EllapsedTime: 54.1 seconds RetCode: 0 Status: OK