Package: SparseArray Version: 1.9.1 Command: /home/biocbuild/R/R/bin/R CMD INSTALL SparseArray StartedAt: 2025-10-23 20:33:36 -0000 (Thu, 23 Oct 2025) EndedAt: 2025-10-23 20:34:26 -0000 (Thu, 23 Oct 2025) EllapsedTime: 49.2 seconds RetCode: 0 Status: OK