Package: SparseArray Version: 1.9.1 Command: /home/biocbuild/bbs-3.22-bioc/R/bin/R CMD build --keep-empty-dirs --no-resave-data --md5 SparseArray StartedAt: 2025-10-24 20:20:46 -0400 (Fri, 24 Oct 2025) EndedAt: 2025-10-24 20:21:40 -0400 (Fri, 24 Oct 2025) EllapsedTime: 54.0 seconds RetCode: 0 Status: OK PackageFile: SparseArray_1.9.1.tar.gz PackageFileSize: 461.6 KiB