Package: SparseArray Version: 1.10.2 Command: rm -rf SparseArray.buildbin-libdir && mkdir SparseArray.buildbin-libdir && /Users/biocbuild/BBS/utils/build-universal.sh SparseArray_1.10.2.tar.gz /Library/Frameworks/R.framework/Resources/bin/R SparseArray.buildbin-libdir StartedAt: 2025-11-18 18:39:12 -0500 (Tue, 18 Nov 2025) EndedAt: 2025-11-18 18:40:33 -0500 (Tue, 18 Nov 2025) EllapsedTime: 80.1 seconds RetCode: 0 Status: OK PackageFile: SparseArray_1.10.2.tgz PackageFileSize: 1.795 MiB