Package: SparseArray Version: 1.10.2 Command: /Library/Frameworks/R.framework/Resources/bin/R CMD INSTALL SparseArray StartedAt: 2025-11-17 17:14:29 -0500 (Mon, 17 Nov 2025) EndedAt: 2025-11-17 17:14:42 -0500 (Mon, 17 Nov 2025) EllapsedTime: 12.2 seconds RetCode: 0 Status: OK