Package: SparseArray Version: 1.10.2 Command: /Library/Frameworks/R.framework/Resources/bin/R CMD build --keep-empty-dirs --no-resave-data SparseArray StartedAt: 2025-11-18 01:13:18 -0500 (Tue, 18 Nov 2025) EndedAt: 2025-11-18 01:13:44 -0500 (Tue, 18 Nov 2025) EllapsedTime: 26.2 seconds RetCode: 0 Status: OK PackageFile: SparseArray_1.10.2.tar.gz PackageFileSize: 451.9 KiB