Package: Spaniel Version: 1.24.0 Command: /home/biocbuild/bbs-3.22-bioc/R/bin/R CMD INSTALL Spaniel StartedAt: 2025-10-30 15:58:52 -0400 (Thu, 30 Oct 2025) EndedAt: 2025-10-30 15:59:34 -0400 (Thu, 30 Oct 2025) EllapsedTime: 41.3 seconds RetCode: 0 Status: OK