Package: Spaniel Version: 1.24.0 Command: /home/biocbuild/bbs-3.22-bioc/R/bin/R CMD build --keep-empty-dirs --no-resave-data --md5 Spaniel StartedAt: 2025-10-30 20:12:44 -0400 (Thu, 30 Oct 2025) EndedAt: 2025-10-30 20:15:32 -0400 (Thu, 30 Oct 2025) EllapsedTime: 168.1 seconds RetCode: 0 Status: OK PackageFile: Spaniel_1.24.0.tar.gz PackageFileSize: 3.908 MiB